BEGIN:VCALENDAR
VERSION:2.0
PRODID:-//Davis Cemetery District &amp; Arboretum - ECPv4.6.21//NONSGML v1.0//EN
CALSCALE:GREGORIAN
METHOD:PUBLISH
X-WR-CALNAME:Davis Cemetery District &amp; Arboretum
X-ORIGINAL-URL:https://daviscemetery.org
X-WR-CALDESC:Events for Davis Cemetery District &amp; Arboretum
BEGIN:VEVENT
DTSTART;TZID=America/Los_Angeles:20240824T100000
DTEND;TZID=America/Los_Angeles:20240824T120000
DTSTAMP:20260422T072122
CREATED:20240821T212243Z
LAST-MODIFIED:20240821T212243Z
UID:6014-1724493600-1724500800@daviscemetery.org
SUMMARY:Felicenne Ramey Burial
DESCRIPTION:
URL:https://daviscemetery.org/event/felicenne-ramey-burial/
CATEGORIES:Davis Cemetery District
END:VEVENT
END:VCALENDAR