BEGIN:VCALENDAR
VERSION:2.0
PRODID:-//Davis Cemetery District &amp; Arboretum - ECPv4.6.21//NONSGML v1.0//EN
CALSCALE:GREGORIAN
METHOD:PUBLISH
X-WR-CALNAME:Davis Cemetery District &amp; Arboretum
X-ORIGINAL-URL:https://daviscemetery.org
X-WR-CALDESC:Events for Davis Cemetery District &amp; Arboretum
BEGIN:VEVENT
DTSTART;TZID=America/Los_Angeles:20240814T110000
DTEND;TZID=America/Los_Angeles:20240814T130000
DTSTAMP:20260422T072113
CREATED:20240808T170307Z
LAST-MODIFIED:20240808T170307Z
UID:5984-1723633200-1723640400@daviscemetery.org
SUMMARY:Sarah Vasquez Burial
DESCRIPTION:
URL:https://daviscemetery.org/event/sarah-vasquez-burial/
CATEGORIES:Davis Cemetery District
END:VEVENT
BEGIN:VEVENT
DTSTART;TZID=America/Los_Angeles:20240814T130000
DTEND;TZID=America/Los_Angeles:20240814T150000
DTSTAMP:20260422T072113
CREATED:20240808T171057Z
LAST-MODIFIED:20240808T171057Z
UID:5986-1723640400-1723647600@daviscemetery.org
SUMMARY:Su Kao Burial
DESCRIPTION:
URL:https://daviscemetery.org/event/su-kao-burial/
CATEGORIES:Davis Cemetery District
END:VEVENT
END:VCALENDAR