BEGIN:VCALENDAR
VERSION:2.0
PRODID:-//Davis Cemetery District &amp; Arboretum - ECPv4.6.21//NONSGML v1.0//EN
CALSCALE:GREGORIAN
METHOD:PUBLISH
X-WR-CALNAME:Davis Cemetery District &amp; Arboretum
X-ORIGINAL-URL:https://daviscemetery.org
X-WR-CALDESC:Events for Davis Cemetery District &amp; Arboretum
BEGIN:VEVENT
DTSTART;TZID=America/Los_Angeles:20240804T100000
DTEND;TZID=America/Los_Angeles:20240804T120000
DTSTAMP:20260422T072107
CREATED:20240729T192214Z
LAST-MODIFIED:20240729T192214Z
UID:5954-1722765600-1722772800@daviscemetery.org
SUMMARY:Charlotte Lucero Burial
DESCRIPTION:
URL:https://daviscemetery.org/event/charlotte-lucero-burial/
CATEGORIES:Davis Cemetery District
END:VEVENT
END:VCALENDAR