BEGIN:VCALENDAR
VERSION:2.0
PRODID:-//Davis Cemetery District &amp; Arboretum - ECPv4.6.21//NONSGML v1.0//EN
CALSCALE:GREGORIAN
METHOD:PUBLISH
X-WR-CALNAME:Davis Cemetery District &amp; Arboretum
X-ORIGINAL-URL:https://daviscemetery.org
X-WR-CALDESC:Events for Davis Cemetery District &amp; Arboretum
BEGIN:VEVENT
DTSTART;TZID=America/Los_Angeles:20240801T100000
DTEND;TZID=America/Los_Angeles:20240801T120000
DTSTAMP:20260422T072115
CREATED:20240729T192117Z
LAST-MODIFIED:20240729T192117Z
UID:5952-1722506400-1722513600@daviscemetery.org
SUMMARY:Mary Hanson Burial
DESCRIPTION:
URL:https://daviscemetery.org/event/mary-hanson-burial/
CATEGORIES:Davis Cemetery District
END:VEVENT
BEGIN:VEVENT
DTSTART;TZID=America/Los_Angeles:20240801T110000
DTEND;TZID=America/Los_Angeles:20240801T113000
DTSTAMP:20260422T072115
CREATED:20240801T192035Z
LAST-MODIFIED:20240801T192035Z
UID:5962-1722510000-1722511800@daviscemetery.org
SUMMARY:Robert Hardy Burial
DESCRIPTION:
URL:https://daviscemetery.org/event/robert-hardy-burial/
CATEGORIES:Davis Cemetery District
END:VEVENT
END:VCALENDAR