BEGIN:VCALENDAR
VERSION:2.0
PRODID:-//Davis Cemetery District &amp; Arboretum - ECPv4.6.21//NONSGML v1.0//EN
CALSCALE:GREGORIAN
METHOD:PUBLISH
X-WR-CALNAME:Davis Cemetery District &amp; Arboretum
X-ORIGINAL-URL:https://daviscemetery.org
X-WR-CALDESC:Events for Davis Cemetery District &amp; Arboretum
BEGIN:VEVENT
DTSTART;VALUE=DATE:20240701
DTEND;VALUE=DATE:20240801
DTSTAMP:20260422T085343
CREATED:20240717T175539Z
LAST-MODIFIED:20240717T175539Z
UID:5939-1719792000-1722470399@daviscemetery.org
SUMMARY:Wreaths Across America Giving in July
DESCRIPTION:\nWreaths Across America – Giving in July\n\n\nIt’s hard to believe we will be conducting our 2nd annual Wreaths Across America event in just five short months. We have had over 650 wreaths sponsored but still have 340 to go!\n\n\nWhen you sponsor two $17 wreaths through our group\, we receive three veterans’ wreaths for our location. Please consider sponsoring a wreath\, using the link below.\nOverview – Wreaths Across America\n\n
URL:https://daviscemetery.org/event/wreaths-across-america-giving-in-july/
CATEGORIES:Davis Cemetery District
END:VEVENT
BEGIN:VEVENT
DTSTART;TZID=America/Los_Angeles:20240701T080000
DTEND;TZID=America/Los_Angeles:20240731T150000
DTSTAMP:20260422T085343
CREATED:20240618T191443Z
LAST-MODIFIED:20240618T191443Z
UID:5857-1719820800-1722438000@daviscemetery.org
SUMMARY:Ann Privateer Exhibition
DESCRIPTION:Artist Statement: ANN PRIVATEER \nMost of my life I have been captivated by the idea that Art is making something out of nothing. \nMy first painting experience was tempera paints with my classmates.  At Halloween and at Christmas we painted holiday murals on store front windows. Today\, I paint with oils and watercolors. \nEvery Friday morning\, I attend a watercolor class at the Davis Senior Center.  There’s a local Art teacher each month.  We learn something different from each artist.  I occasionally go on Plein Air painting adventures with YoloArts.  Photography is another outlet that has fascinated me since childhood. \nA bumper sticker says it all\, Earth is just eh without art. \n\n\n\n\n\n\n\n\n
URL:https://daviscemetery.org/event/ann-privateer-exhibition/
CATEGORIES:Gallery 1855
END:VEVENT
END:VCALENDAR