BEGIN:VCALENDAR
VERSION:2.0
PRODID:-//Davis Cemetery District &amp; Arboretum - ECPv4.6.21//NONSGML v1.0//EN
CALSCALE:GREGORIAN
METHOD:PUBLISH
X-WR-CALNAME:Davis Cemetery District &amp; Arboretum
X-ORIGINAL-URL:https://daviscemetery.org
X-WR-CALDESC:Events for Davis Cemetery District &amp; Arboretum
BEGIN:VEVENT
DTSTART;TZID=America/Los_Angeles:20240402T120000
DTEND;TZID=America/Los_Angeles:20240430T150000
DTSTAMP:20260422T133541
CREATED:20240325T195156Z
LAST-MODIFIED:20240325T195156Z
UID:5664-1712059200-1714489200@daviscemetery.org
SUMMARY:Brenyanna Harris-Hill Exhibition
DESCRIPTION:ARTIST STATEMENT \nBrenyanna Harris-Hill \nArt by Brey \nI consider myself an artist\, educator\, and an entrepreneur that focuses on black representation in art and the importance of mental health. I graduated from the University of California – Irvine with a degree in Psychology & Social Behavior with an emphasis on child development.  \nI implement my educational background to teach children about mental health through practices like art therapy. I’m passionate about creating art that celebrates beauty\, strength\, and resilience. I’m inspired by the powerful women and the diverse stories of the women she meets.  \nI’m motivated to capture their unique stories\, looks\, and experiences on canvas and through her art. She aspires for women of color to feel appreciated and portrayed while observing her work.  \n
URL:https://daviscemetery.org/event/brenyanna-harris-hill-exhibition/
CATEGORIES:Gallery 1855
END:VEVENT
BEGIN:VEVENT
DTSTART;TZID=America/Los_Angeles:20240403T110000
DTEND;TZID=America/Los_Angeles:20240403T130000
DTSTAMP:20260422T133541
CREATED:20240329T212135Z
LAST-MODIFIED:20240329T212135Z
UID:5684-1712142000-1712149200@daviscemetery.org
SUMMARY:Paul Isaacs Burial
DESCRIPTION:
URL:https://daviscemetery.org/event/paul-isaacs-burial/
CATEGORIES:Davis Cemetery District
END:VEVENT
END:VCALENDAR