BEGIN:VCALENDAR
VERSION:2.0
PRODID:-//Davis Cemetery District &amp; Arboretum - ECPv4.6.21//NONSGML v1.0//EN
CALSCALE:GREGORIAN
METHOD:PUBLISH
X-WR-CALNAME:Davis Cemetery District &amp; Arboretum
X-ORIGINAL-URL:https://daviscemetery.org
X-WR-CALDESC:Events for Davis Cemetery District &amp; Arboretum
BEGIN:VEVENT
DTSTART;TZID=America/Los_Angeles:20230730T104500
DTEND;TZID=America/Los_Angeles:20230730T124500
DTSTAMP:20260423T042202
CREATED:20230628T201150Z
LAST-MODIFIED:20230628T201150Z
UID:5120-1690713900-1690721100@daviscemetery.org
SUMMARY:Eva Beran Burial
DESCRIPTION:
URL:https://daviscemetery.org/event/eva-beran-burial-2/
CATEGORIES:Davis Cemetery District
END:VEVENT
END:VCALENDAR