BEGIN:VCALENDAR
VERSION:2.0
PRODID:-//Davis Cemetery District &amp; Arboretum - ECPv4.6.21//NONSGML v1.0//EN
CALSCALE:GREGORIAN
METHOD:PUBLISH
X-WR-CALNAME:Davis Cemetery District &amp; Arboretum
X-ORIGINAL-URL:https://daviscemetery.org
X-WR-CALDESC:Events for Davis Cemetery District &amp; Arboretum
BEGIN:VEVENT
DTSTART;TZID=America/Los_Angeles:20230725T110000
DTEND;TZID=America/Los_Angeles:20230725T130000
DTSTAMP:20260423T115643
CREATED:20230628T201106Z
LAST-MODIFIED:20230628T201106Z
UID:5118-1690282800-1690290000@daviscemetery.org
SUMMARY:Janet Mentink Burial
DESCRIPTION:
URL:https://daviscemetery.org/event/janet-mentink-burial/
CATEGORIES:Davis Cemetery District
END:VEVENT
END:VCALENDAR