BEGIN:VCALENDAR
VERSION:2.0
PRODID:-//Davis Cemetery District &amp; Arboretum - ECPv4.6.21//NONSGML v1.0//EN
CALSCALE:GREGORIAN
METHOD:PUBLISH
X-WR-CALNAME:Davis Cemetery District &amp; Arboretum
X-ORIGINAL-URL:https://daviscemetery.org
X-WR-CALDESC:Events for Davis Cemetery District &amp; Arboretum
BEGIN:VEVENT
DTSTART;TZID=America/Los_Angeles:20230717T090000
DTEND;TZID=America/Los_Angeles:20230717T110000
DTSTAMP:20260424T003954
CREATED:20230712T184510Z
LAST-MODIFIED:20230712T184510Z
UID:5161-1689584400-1689591600@daviscemetery.org
SUMMARY:Roberta Fell Burial
DESCRIPTION:
URL:https://daviscemetery.org/event/roberta-fell-burial/
CATEGORIES:Davis Cemetery District
END:VEVENT
BEGIN:VEVENT
DTSTART;TZID=America/Los_Angeles:20230717T110000
DTEND;TZID=America/Los_Angeles:20230717T130000
DTSTAMP:20260424T003954
CREATED:20230711T205459Z
LAST-MODIFIED:20230711T205459Z
UID:5153-1689591600-1689598800@daviscemetery.org
SUMMARY:Elizabeth Elton Burial
DESCRIPTION:
URL:https://daviscemetery.org/event/elizabeth-elton-burial/
CATEGORIES:Davis Cemetery District
END:VEVENT
END:VCALENDAR