BEGIN:VCALENDAR
VERSION:2.0
PRODID:-//Davis Cemetery District &amp; Arboretum - ECPv4.6.21//NONSGML v1.0//EN
CALSCALE:GREGORIAN
METHOD:PUBLISH
X-WR-CALNAME:Davis Cemetery District &amp; Arboretum
X-ORIGINAL-URL:https://daviscemetery.org
X-WR-CALDESC:Events for Davis Cemetery District &amp; Arboretum
BEGIN:VEVENT
DTSTART;TZID=America/Los_Angeles:20230711T110000
DTEND;TZID=America/Los_Angeles:20230711T130000
DTSTAMP:20260424T091908
CREATED:20230705T192546Z
LAST-MODIFIED:20230705T192546Z
UID:5143-1689073200-1689080400@daviscemetery.org
SUMMARY:Lantana Bunfill Burial
DESCRIPTION:
URL:https://daviscemetery.org/event/lantana-bunfill-burial/
CATEGORIES:Davis Cemetery District
END:VEVENT
END:VCALENDAR