BEGIN:VCALENDAR
VERSION:2.0
PRODID:-//Davis Cemetery District &amp; Arboretum - ECPv4.6.21//NONSGML v1.0//EN
CALSCALE:GREGORIAN
METHOD:PUBLISH
X-WR-CALNAME:Davis Cemetery District &amp; Arboretum
X-ORIGINAL-URL:https://daviscemetery.org
X-WR-CALDESC:Events for Davis Cemetery District &amp; Arboretum
BEGIN:VEVENT
DTSTART;TZID=America/Los_Angeles:20230710T110000
DTEND;TZID=America/Los_Angeles:20230710T130000
DTSTAMP:20260424T110207
CREATED:20230710T150113Z
LAST-MODIFIED:20230710T150113Z
UID:5149-1688986800-1688994000@daviscemetery.org
SUMMARY:William Kimball Burial
DESCRIPTION:
URL:https://daviscemetery.org/event/william-kimball-burial/
CATEGORIES:Davis Cemetery District
END:VEVENT
END:VCALENDAR