BEGIN:VCALENDAR
VERSION:2.0
PRODID:-//Davis Cemetery District &amp; Arboretum - ECPv4.6.21//NONSGML v1.0//EN
CALSCALE:GREGORIAN
METHOD:PUBLISH
X-WR-CALNAME:Davis Cemetery District &amp; Arboretum
X-ORIGINAL-URL:https://daviscemetery.org
X-WR-CALDESC:Events for Davis Cemetery District &amp; Arboretum
BEGIN:VEVENT
DTSTART;VALUE=DATE:20210701
DTEND;VALUE=DATE:20210801
DTSTAMP:20260420T062958
CREATED:20210615T155318Z
LAST-MODIFIED:20210615T155318Z
UID:3764-1625097600-1627775999@daviscemetery.org
SUMMARY:William Cleveland Exhibition
DESCRIPTION:
URL:https://daviscemetery.org/event/william-cleveland-exhibition/
CATEGORIES:Gallery 1855
END:VEVENT
BEGIN:VEVENT
DTSTART;TZID=America/Los_Angeles:20210716T100000
DTEND;TZID=America/Los_Angeles:20210716T120000
DTSTAMP:20260420T062958
CREATED:20210603T153551Z
LAST-MODIFIED:20210603T153551Z
UID:3748-1626429600-1626436800@daviscemetery.org
SUMMARY:Charlotte Beddow-Holder Burial
DESCRIPTION:
URL:https://daviscemetery.org/event/charlotte-beddow-holder-burial/
CATEGORIES:Davis Cemetery District
END:VEVENT
END:VCALENDAR