BEGIN:VCALENDAR
VERSION:2.0
PRODID:-//Davis Cemetery District &amp; Arboretum - ECPv4.6.21//NONSGML v1.0//EN
CALSCALE:GREGORIAN
METHOD:PUBLISH
X-WR-CALNAME:Davis Cemetery District &amp; Arboretum
X-ORIGINAL-URL:https://daviscemetery.org
X-WR-CALDESC:Events for Davis Cemetery District &amp; Arboretum
BEGIN:VEVENT
DTSTART;TZID=America/Los_Angeles:20171018T103000
DTEND;TZID=America/Los_Angeles:20171018T113000
DTSTAMP:20260424T062415
CREATED:20171012T161017Z
LAST-MODIFIED:20171012T161444Z
UID:1198-1508322600-1508326200@daviscemetery.org
SUMMARY:Tongzhou Liu Service
DESCRIPTION:Service for Tongzhou Liu 10:30 am \n
URL:https://daviscemetery.org/event/tongzhou-liu-service/
CATEGORIES:Davis Cemetery District
END:VEVENT
END:VCALENDAR