BEGIN:VCALENDAR
VERSION:2.0
PRODID:-//Davis Cemetery District &amp; Arboretum - ECPv4.6.21//NONSGML v1.0//EN
CALSCALE:GREGORIAN
METHOD:PUBLISH
X-WR-CALNAME:Davis Cemetery District &amp; Arboretum
X-ORIGINAL-URL:https://daviscemetery.org
X-WR-CALDESC:Events for Davis Cemetery District &amp; Arboretum
BEGIN:VEVENT
DTSTART;TZID=America/Los_Angeles:20241204T140000
DTEND;TZID=America/Los_Angeles:20241204T160000
DTSTAMP:20260423T190147
CREATED:20241130T173023Z
LAST-MODIFIED:20241130T173023Z
UID:6254-1733320800-1733328000@daviscemetery.org
SUMMARY:Stephanie Gonsalves Burial
DESCRIPTION:
URL:https://daviscemetery.org/event/stephanie-gonsalves-burial-2/
CATEGORIES:Davis Cemetery District
END:VEVENT
END:VCALENDAR