BEGIN:VCALENDAR
VERSION:2.0
PRODID:-//Davis Cemetery District &amp; Arboretum - ECPv4.6.21//NONSGML v1.0//EN
CALSCALE:GREGORIAN
METHOD:PUBLISH
X-WR-CALNAME:Davis Cemetery District &amp; Arboretum
X-ORIGINAL-URL:https://daviscemetery.org
X-WR-CALDESC:Events for Davis Cemetery District &amp; Arboretum
BEGIN:VEVENT
DTSTART;TZID=UTC+0:20151213T130000
DTEND;TZID=UTC+0:20151213T160000
DTSTAMP:20260423T101054
CREATED:20151116T073006Z
LAST-MODIFIED:20151116T073006Z
UID:46-1450011600-1450022400@daviscemetery.org
SUMMARY:Solo Exhibition of Artist Seana Burke
DESCRIPTION:Exhibition Dates December 1-December 31\, 2015 \n
URL:https://daviscemetery.org/event/solo-exhibition-of-artist-seana-burke/
CATEGORIES:Gallery 1855
END:VEVENT
END:VCALENDAR