BEGIN:VCALENDAR
VERSION:2.0
PRODID:-//Davis Cemetery District &amp; Arboretum - ECPv4.6.21//NONSGML v1.0//EN
CALSCALE:GREGORIAN
METHOD:PUBLISH
X-WR-CALNAME:Davis Cemetery District &amp; Arboretum
X-ORIGINAL-URL:https://daviscemetery.org
X-WR-CALDESC:Events for Davis Cemetery District &amp; Arboretum
BEGIN:VEVENT
DTSTART;TZID=America/Los_Angeles:20180917T110000
DTEND;TZID=America/Los_Angeles:20180917T110000
DTSTAMP:20260425T113458
CREATED:20180913T230907Z
LAST-MODIFIED:20180913T231211Z
UID:2115-1537182000-1537182000@daviscemetery.org
SUMMARY:Sherylynn Barker Service
DESCRIPTION:\nSherylynn Barker Service  9/17/17 11:00am \nT-367 \n
URL:https://daviscemetery.org/event/sherylynn-barker-service/
END:VEVENT
END:VCALENDAR