BEGIN:VCALENDAR
VERSION:2.0
PRODID:-//Davis Cemetery District &amp; Arboretum - ECPv4.6.21//NONSGML v1.0//EN
CALSCALE:GREGORIAN
METHOD:PUBLISH
X-WR-CALNAME:Davis Cemetery District &amp; Arboretum
X-ORIGINAL-URL:https://daviscemetery.org
X-WR-CALDESC:Events for Davis Cemetery District &amp; Arboretum
BEGIN:VEVENT
DTSTART;TZID=America/Los_Angeles:20230510T130000
DTEND;TZID=America/Los_Angeles:20230510T150000
DTSTAMP:20260422T142525
CREATED:20230509T153424Z
LAST-MODIFIED:20230509T153424Z
UID:5015-1683723600-1683730800@daviscemetery.org
SUMMARY:Sheila Beall Burial
DESCRIPTION:
URL:https://daviscemetery.org/event/sheila-beall-burial/
CATEGORIES:Davis Cemetery District
END:VEVENT
END:VCALENDAR