BEGIN:VCALENDAR
VERSION:2.0
PRODID:-//Davis Cemetery District &amp; Arboretum - ECPv4.6.21//NONSGML v1.0//EN
CALSCALE:GREGORIAN
METHOD:PUBLISH
X-WR-CALNAME:Davis Cemetery District &amp; Arboretum
X-ORIGINAL-URL:https://daviscemetery.org
X-WR-CALDESC:Events for Davis Cemetery District &amp; Arboretum
BEGIN:VEVENT
DTSTART;TZID=America/Los_Angeles:20230317T123000
DTEND;TZID=America/Los_Angeles:20230317T143000
DTSTAMP:20260422T104411
CREATED:20230227T191922Z
LAST-MODIFIED:20230227T191922Z
UID:4899-1679056200-1679063400@daviscemetery.org
SUMMARY:Scott Holliday Burial
DESCRIPTION:
URL:https://daviscemetery.org/event/scott-holliday-burial/
CATEGORIES:Davis Cemetery District
END:VEVENT
END:VCALENDAR