BEGIN:VCALENDAR
VERSION:2.0
PRODID:-//Davis Cemetery District &amp; Arboretum - ECPv4.6.21//NONSGML v1.0//EN
CALSCALE:GREGORIAN
METHOD:PUBLISH
X-WR-CALNAME:Davis Cemetery District &amp; Arboretum
X-ORIGINAL-URL:https://daviscemetery.org
X-WR-CALDESC:Events for Davis Cemetery District &amp; Arboretum
BEGIN:VEVENT
DTSTART;TZID=America/Los_Angeles:20220721T100000
DTEND;TZID=America/Los_Angeles:20220721T120000
DTSTAMP:20260425T231408
CREATED:20220714T202036Z
LAST-MODIFIED:20220714T202036Z
UID:4351-1658397600-1658404800@daviscemetery.org
SUMMARY:Sandra Huff Burial
DESCRIPTION:
URL:https://daviscemetery.org/event/sandra-huff-burial/
CATEGORIES:Davis Cemetery District
END:VEVENT
END:VCALENDAR