BEGIN:VCALENDAR
VERSION:2.0
PRODID:-//Davis Cemetery District &amp; Arboretum - ECPv4.6.21//NONSGML v1.0//EN
CALSCALE:GREGORIAN
METHOD:PUBLISH
X-WR-CALNAME:Davis Cemetery District &amp; Arboretum
X-ORIGINAL-URL:https://daviscemetery.org
X-WR-CALDESC:Events for Davis Cemetery District &amp; Arboretum
BEGIN:VEVENT
DTSTART;TZID=America/Los_Angeles:20210212T150000
DTEND;TZID=America/Los_Angeles:20210212T170000
DTSTAMP:20260420T145005
CREATED:20210205T173403Z
LAST-MODIFIED:20210205T173403Z
UID:3592-1613142000-1613149200@daviscemetery.org
SUMMARY:Sally S. Gray Burial
DESCRIPTION:
URL:https://daviscemetery.org/event/sally-s-gray-burial/
CATEGORIES:Davis Cemetery District
END:VEVENT
END:VCALENDAR