BEGIN:VCALENDAR
VERSION:2.0
PRODID:-//Davis Cemetery District &amp; Arboretum - ECPv4.6.21//NONSGML v1.0//EN
CALSCALE:GREGORIAN
METHOD:PUBLISH
X-WR-CALNAME:Davis Cemetery District &amp; Arboretum
X-ORIGINAL-URL:https://daviscemetery.org
X-WR-CALDESC:Events for Davis Cemetery District &amp; Arboretum
BEGIN:VEVENT
DTSTART;TZID=America/Los_Angeles:20220721T120000
DTEND;TZID=America/Los_Angeles:20220721T140000
DTSTAMP:20260425T214615
CREATED:20220714T202103Z
LAST-MODIFIED:20220714T202103Z
UID:4353-1658404800-1658412000@daviscemetery.org
SUMMARY:Ronald Parker Burial
DESCRIPTION:
URL:https://daviscemetery.org/event/ronald-parker-burial/
CATEGORIES:Davis Cemetery District
END:VEVENT
END:VCALENDAR