BEGIN:VCALENDAR
VERSION:2.0
PRODID:-//Davis Cemetery District &amp; Arboretum - ECPv4.6.21//NONSGML v1.0//EN
CALSCALE:GREGORIAN
METHOD:PUBLISH
X-WR-CALNAME:Davis Cemetery District &amp; Arboretum
X-ORIGINAL-URL:https://daviscemetery.org
X-WR-CALDESC:Events for Davis Cemetery District &amp; Arboretum
BEGIN:VEVENT
DTSTART;TZID=America/Los_Angeles:20230225T140000
DTEND;TZID=America/Los_Angeles:20230225T160000
DTSTAMP:20260422T074132
CREATED:20230214T164448Z
LAST-MODIFIED:20230214T164448Z
UID:4802-1677333600-1677340800@daviscemetery.org
SUMMARY:Ronald Clift Burial
DESCRIPTION:
URL:https://daviscemetery.org/event/ronald-clift-burial/
CATEGORIES:Davis Cemetery District
END:VEVENT
END:VCALENDAR