BEGIN:VCALENDAR
VERSION:2.0
PRODID:-//Davis Cemetery District &amp; Arboretum - ECPv4.6.21//NONSGML v1.0//EN
CALSCALE:GREGORIAN
METHOD:PUBLISH
X-WR-CALNAME:Davis Cemetery District &amp; Arboretum
X-ORIGINAL-URL:https://daviscemetery.org
X-WR-CALDESC:Events for Davis Cemetery District &amp; Arboretum
BEGIN:VEVENT
DTSTART;TZID=America/Los_Angeles:20240322T120000
DTEND;TZID=America/Los_Angeles:20240322T140000
DTSTAMP:20260421T150451
CREATED:20240227T171333Z
LAST-MODIFIED:20240227T171333Z
UID:5617-1711108800-1711116000@daviscemetery.org
SUMMARY:Richard and Karen Siegler Burials
DESCRIPTION:
URL:https://daviscemetery.org/event/richard-and-karen-siegler-burials/
CATEGORIES:Davis Cemetery District
END:VEVENT
END:VCALENDAR