BEGIN:VCALENDAR
VERSION:2.0
PRODID:-//Davis Cemetery District &amp; Arboretum - ECPv4.6.21//NONSGML v1.0//EN
CALSCALE:GREGORIAN
METHOD:PUBLISH
X-WR-CALNAME:Davis Cemetery District &amp; Arboretum
X-ORIGINAL-URL:https://daviscemetery.org
X-WR-CALDESC:Events for Davis Cemetery District &amp; Arboretum
BEGIN:VEVENT
DTSTART;TZID=America/Los_Angeles:20221006T110000
DTEND;TZID=America/Los_Angeles:20221006T130000
DTSTAMP:20260425T172257
CREATED:20221005T211948Z
LAST-MODIFIED:20221005T211948Z
UID:4438-1665054000-1665061200@daviscemetery.org
SUMMARY:Richard and Carolyn Ortmeyer Burial
DESCRIPTION:
URL:https://daviscemetery.org/event/richard-and-carolyn-ortmeyer-burial/
CATEGORIES:Davis Cemetery District
END:VEVENT
END:VCALENDAR