BEGIN:VCALENDAR
VERSION:2.0
PRODID:-//Davis Cemetery District &amp; Arboretum - ECPv4.6.21//NONSGML v1.0//EN
CALSCALE:GREGORIAN
METHOD:PUBLISH
X-WR-CALNAME:Davis Cemetery District &amp; Arboretum
X-ORIGINAL-URL:https://daviscemetery.org
X-WR-CALDESC:Events for Davis Cemetery District &amp; Arboretum
BEGIN:VEVENT
DTSTART;TZID=America/Los_Angeles:20240731T093000
DTEND;TZID=America/Los_Angeles:20240731T113000
DTSTAMP:20260422T072241
CREATED:20240729T192014Z
LAST-MODIFIED:20240729T192014Z
UID:5950-1722418200-1722425400@daviscemetery.org
SUMMARY:Paul Grant Burial
DESCRIPTION:
URL:https://daviscemetery.org/event/paul-grant-burial/
CATEGORIES:Davis Cemetery District
END:VEVENT
END:VCALENDAR