BEGIN:VCALENDAR
VERSION:2.0
PRODID:-//Davis Cemetery District &amp; Arboretum - ECPv4.6.21//NONSGML v1.0//EN
CALSCALE:GREGORIAN
METHOD:PUBLISH
X-WR-CALNAME:Davis Cemetery District &amp; Arboretum
X-ORIGINAL-URL:https://daviscemetery.org
X-WR-CALDESC:Events for Davis Cemetery District &amp; Arboretum
BEGIN:VEVENT
DTSTART;TZID=America/Los_Angeles:20231221T120000
DTEND;TZID=America/Los_Angeles:20231221T140000
DTSTAMP:20260422T194726
CREATED:20231130T155626Z
LAST-MODIFIED:20231214T171146Z
UID:5404-1703160000-1703167200@daviscemetery.org
SUMMARY:Patricia Hayes Burial
DESCRIPTION:
URL:https://daviscemetery.org/event/patricia-hayes-scattering/
CATEGORIES:Davis Cemetery District
END:VEVENT
END:VCALENDAR