BEGIN:VCALENDAR
VERSION:2.0
PRODID:-//Davis Cemetery District &amp; Arboretum - ECPv4.6.21//NONSGML v1.0//EN
CALSCALE:GREGORIAN
METHOD:PUBLISH
X-WR-CALNAME:Davis Cemetery District &amp; Arboretum
X-ORIGINAL-URL:https://daviscemetery.org
X-WR-CALDESC:Events for Davis Cemetery District &amp; Arboretum
BEGIN:VEVENT
DTSTART;TZID=America/Los_Angeles:20260320T133000
DTEND;TZID=America/Los_Angeles:20260320T153000
DTSTAMP:20260421T084827
CREATED:20260302T192349Z
LAST-MODIFIED:20260302T192349Z
UID:7050-1774013400-1774020600@daviscemetery.org
SUMMARY:Nora McGuinness Burial
DESCRIPTION:
URL:https://daviscemetery.org/event/nora-mcguinness-burial/
CATEGORIES:Davis Cemetery District
END:VEVENT
END:VCALENDAR