BEGIN:VCALENDAR
VERSION:2.0
PRODID:-//Davis Cemetery District &amp; Arboretum - ECPv4.6.21//NONSGML v1.0//EN
CALSCALE:GREGORIAN
METHOD:PUBLISH
X-WR-CALNAME:Davis Cemetery District &amp; Arboretum
X-ORIGINAL-URL:https://daviscemetery.org
X-WR-CALDESC:Events for Davis Cemetery District &amp; Arboretum
BEGIN:VEVENT
DTSTART;TZID=America/Los_Angeles:20240322T100000
DTEND;TZID=America/Los_Angeles:20240322T110000
DTSTAMP:20260421T150038
CREATED:20240319T163732Z
LAST-MODIFIED:20240319T163732Z
UID:5648-1711101600-1711105200@daviscemetery.org
SUMMARY:Michael Plimption Burial
DESCRIPTION:
URL:https://daviscemetery.org/event/michael-plimption-burial/
CATEGORIES:Davis Cemetery District
END:VEVENT
END:VCALENDAR