BEGIN:VCALENDAR
VERSION:2.0
PRODID:-//Davis Cemetery District &amp; Arboretum - ECPv4.6.21//NONSGML v1.0//EN
CALSCALE:GREGORIAN
METHOD:PUBLISH
X-WR-CALNAME:Davis Cemetery District &amp; Arboretum
X-ORIGINAL-URL:https://daviscemetery.org
X-WR-CALDESC:Events for Davis Cemetery District &amp; Arboretum
BEGIN:VEVENT
DTSTART;TZID=America/Los_Angeles:20240210T120000
DTEND;TZID=America/Los_Angeles:20240210T140000
DTSTAMP:20260421T131800
CREATED:20240129T215020Z
LAST-MODIFIED:20240129T215020Z
UID:5520-1707566400-1707573600@daviscemetery.org
SUMMARY:Melecia Reddy Burial
DESCRIPTION:
URL:https://daviscemetery.org/event/melecia-reddy-burial/
CATEGORIES:Davis Cemetery District
END:VEVENT
END:VCALENDAR