BEGIN:VCALENDAR
VERSION:2.0
PRODID:-//Davis Cemetery District &amp; Arboretum - ECPv4.6.21//NONSGML v1.0//EN
CALSCALE:GREGORIAN
METHOD:PUBLISH
X-WR-CALNAME:Davis Cemetery District &amp; Arboretum
X-ORIGINAL-URL:https://daviscemetery.org
X-WR-CALDESC:Events for Davis Cemetery District &amp; Arboretum
BEGIN:VEVENT
DTSTART;TZID=America/Los_Angeles:20220722T110000
DTEND;TZID=America/Los_Angeles:20220722T130000
DTSTAMP:20260425T214544
CREATED:20220705T163852Z
LAST-MODIFIED:20220705T163852Z
UID:4339-1658487600-1658494800@daviscemetery.org
SUMMARY:Mary Cooper Burial
DESCRIPTION:
URL:https://daviscemetery.org/event/mary-cooper-burial/
CATEGORIES:Davis Cemetery District
END:VEVENT
END:VCALENDAR