BEGIN:VCALENDAR
VERSION:2.0
PRODID:-//Davis Cemetery District &amp; Arboretum - ECPv4.6.21//NONSGML v1.0//EN
CALSCALE:GREGORIAN
METHOD:PUBLISH
X-WR-CALNAME:Davis Cemetery District &amp; Arboretum
X-ORIGINAL-URL:https://daviscemetery.org
X-WR-CALDESC:Events for Davis Cemetery District &amp; Arboretum
BEGIN:VEVENT
DTSTART;TZID=America/Los_Angeles:20240813T140000
DTEND;TZID=America/Los_Angeles:20240813T160000
DTSTAMP:20260422T073013
CREATED:20240812T145728Z
LAST-MODIFIED:20240812T145728Z
UID:5997-1723557600-1723564800@daviscemetery.org
SUMMARY:Marilyn Ghausi Burial
DESCRIPTION:
URL:https://daviscemetery.org/event/marilyn-ghausi-burial/
CATEGORIES:Davis Cemetery District
END:VEVENT
END:VCALENDAR