BEGIN:VCALENDAR
VERSION:2.0
PRODID:-//Davis Cemetery District &amp; Arboretum - ECPv4.6.21//NONSGML v1.0//EN
CALSCALE:GREGORIAN
METHOD:PUBLISH
X-WR-CALNAME:Davis Cemetery District &amp; Arboretum
X-ORIGINAL-URL:https://daviscemetery.org
X-WR-CALDESC:Events for Davis Cemetery District &amp; Arboretum
BEGIN:VEVENT
DTSTART;TZID=America/Los_Angeles:20260509T110000
DTEND;TZID=America/Los_Angeles:20260509T130000
DTSTAMP:20260422T000201
CREATED:20260421T191217Z
LAST-MODIFIED:20260421T191217Z
UID:7138-1778324400-1778331600@daviscemetery.org
SUMMARY:Mabelan Nesbit Interment
DESCRIPTION:
URL:https://daviscemetery.org/event/mabelan-nesbit-interment/
CATEGORIES:Davis Cemetery District
END:VEVENT
END:VCALENDAR