BEGIN:VCALENDAR
VERSION:2.0
PRODID:-//Davis Cemetery District &amp; Arboretum - ECPv4.6.21//NONSGML v1.0//EN
CALSCALE:GREGORIAN
METHOD:PUBLISH
X-WR-CALNAME:Davis Cemetery District &amp; Arboretum
X-ORIGINAL-URL:https://daviscemetery.org
X-WR-CALDESC:Events for Davis Cemetery District &amp; Arboretum
BEGIN:VEVENT
DTSTART;TZID=America/Los_Angeles:20230209T090000
DTEND;TZID=America/Los_Angeles:20230209T093000
DTSTAMP:20260422T045532
CREATED:20230208T172744Z
LAST-MODIFIED:20230208T194943Z
UID:4796-1675933200-1675935000@daviscemetery.org
SUMMARY:Kirby Chadwick Burial (No Service)
DESCRIPTION:
URL:https://daviscemetery.org/event/kirby-chadwick-burial-no-service/
CATEGORIES:Davis Cemetery District
END:VEVENT
END:VCALENDAR