BEGIN:VCALENDAR
VERSION:2.0
PRODID:-//Davis Cemetery District &amp; Arboretum - ECPv4.6.21//NONSGML v1.0//EN
CALSCALE:GREGORIAN
METHOD:PUBLISH
X-WR-CALNAME:Davis Cemetery District &amp; Arboretum
X-ORIGINAL-URL:https://daviscemetery.org
X-WR-CALDESC:Events for Davis Cemetery District &amp; Arboretum
BEGIN:VEVENT
DTSTART;TZID=America/Los_Angeles:20240323T110000
DTEND;TZID=America/Los_Angeles:20240323T130000
DTSTAMP:20260421T163746
CREATED:20240223T204155Z
LAST-MODIFIED:20240223T204155Z
UID:5608-1711191600-1711198800@daviscemetery.org
SUMMARY:Kenneth Beadleston Burial
DESCRIPTION:
URL:https://daviscemetery.org/event/kenneth-beadleston-burial/
CATEGORIES:Davis Cemetery District
END:VEVENT
END:VCALENDAR