BEGIN:VCALENDAR
VERSION:2.0
PRODID:-//Davis Cemetery District &amp; Arboretum - ECPv4.6.21//NONSGML v1.0//EN
CALSCALE:GREGORIAN
METHOD:PUBLISH
X-WR-CALNAME:Davis Cemetery District &amp; Arboretum
X-ORIGINAL-URL:https://daviscemetery.org
X-WR-CALDESC:Events for Davis Cemetery District &amp; Arboretum
BEGIN:VEVENT
DTSTART;TZID=UTC+0:20160615T160000
DTEND;TZID=UTC+0:20160615T170000
DTSTAMP:20260423T005347
CREATED:20160611T040401Z
LAST-MODIFIED:20160616T024736Z
UID:442-1466006400-1466010000@daviscemetery.org
SUMMARY:June 2016 Davis Cemetery District Board Meeting
DESCRIPTION:Davis Cemetery District Board Meeting Agenda \n  \nDate:                           06-15-2016                              \nTime:                         4:00 PM           \nLocation:       820 Pole Line Rd.\, Davis\, CA \n  \nCall to order/introductions: Chairperson Stephen Souza\, Vice Chairperson Larry Dean\, Board members: Dennis Dingemans\, Marilyn Mansfield\, Bill Marshall \n  \nApproval of agenda \n  \nPublic comment: \nOpportunity for members of the public to address the Davis Cemetery District Board on issues related to Davis Cemetery District business but which do not appear on the agenda. The Davis Cemetery District Board reserves the right to impose a reasonable time limit afforded to any one topic or to any individual speaker. \n  \nAnnouncements:  \n  \nApproval of minutes: May 18\, 2016 \n  \nConsent calendar: None \n  \nCorrespondence: None \n  \nSuperintendent’s Report \n  \nCommunity Outreach Update  \n  \nFinancial Statements (if available) \n  \nOld Business: Report of Finance Committee re; FY16-17 Fees and Budget \n  \nNew Business: \n\nConsider FY 15-16 Revised Budget\nConsider FY 16-17 Proposed Budget\nNomination and Election of Chair\, Vice-Chair and Board Secretary\n\n  \nAdjournment and scheduling of next meeting: Chairperson \n  \nClosed Session: Employee Performance Evaluation \n  \nI declare under penalty of perjury that the foregoing agenda was prepared by Ann McKay\, and posted on Friday\, June 10\, 2016 at the Davis Cemetery\, 820 Pole Line Rd.\, Davis\, CA 95618 by Kristi Dvorak. \n
URL:https://daviscemetery.org/event/june-2016-davis-cemetery-district-board-meeting/
CATEGORIES:Davis Cemetery District
END:VEVENT
END:VCALENDAR