BEGIN:VCALENDAR
VERSION:2.0
PRODID:-//Davis Cemetery District &amp; Arboretum - ECPv4.6.21//NONSGML v1.0//EN
CALSCALE:GREGORIAN
METHOD:PUBLISH
X-WR-CALNAME:Davis Cemetery District &amp; Arboretum
X-ORIGINAL-URL:https://daviscemetery.org
X-WR-CALDESC:Events for Davis Cemetery District &amp; Arboretum
BEGIN:VEVENT
DTSTART;TZID=America/Los_Angeles:20230126T140000
DTEND;TZID=America/Los_Angeles:20230126T160000
DTSTAMP:20260422T090650
CREATED:20230125T210609Z
LAST-MODIFIED:20230125T210609Z
UID:4761-1674741600-1674748800@daviscemetery.org
SUMMARY:Joanna Muller Burial
DESCRIPTION:
URL:https://daviscemetery.org/event/joanna-muller-burial/
CATEGORIES:Davis Cemetery District
END:VEVENT
END:VCALENDAR