BEGIN:VCALENDAR
VERSION:2.0
PRODID:-//Davis Cemetery District &amp; Arboretum - ECPv4.6.21//NONSGML v1.0//EN
CALSCALE:GREGORIAN
METHOD:PUBLISH
X-WR-CALNAME:Davis Cemetery District &amp; Arboretum
X-ORIGINAL-URL:https://daviscemetery.org
X-WR-CALDESC:Events for Davis Cemetery District &amp; Arboretum
BEGIN:VEVENT
DTSTART;TZID=America/Los_Angeles:20260302T120000
DTEND;TZID=America/Los_Angeles:20260302T140000
DTSTAMP:20260422T120558
CREATED:20260302T175202Z
LAST-MODIFIED:20260302T175202Z
UID:7041-1772452800-1772460000@daviscemetery.org
SUMMARY:Jeana Flores
DESCRIPTION:
URL:https://daviscemetery.org/event/jeana-flores/
CATEGORIES:Davis Cemetery District
END:VEVENT
END:VCALENDAR