BEGIN:VCALENDAR
VERSION:2.0
PRODID:-//Davis Cemetery District &amp; Arboretum - ECPv4.6.21//NONSGML v1.0//EN
CALSCALE:GREGORIAN
METHOD:PUBLISH
X-WR-CALNAME:Davis Cemetery District &amp; Arboretum
X-ORIGINAL-URL:https://daviscemetery.org
X-WR-CALDESC:Events for Davis Cemetery District &amp; Arboretum
BEGIN:VEVENT
DTSTART;TZID=America/Los_Angeles:20210522T150000
DTEND;TZID=America/Los_Angeles:20210522T170000
DTSTAMP:20260422T085530
CREATED:20210520T144947Z
LAST-MODIFIED:20210520T144947Z
UID:3726-1621695600-1621702800@daviscemetery.org
SUMMARY:Ira Clary Service Only
DESCRIPTION:
URL:https://daviscemetery.org/event/ira-clary-service-only/
CATEGORIES:Davis Cemetery District
END:VEVENT
END:VCALENDAR