BEGIN:VCALENDAR
VERSION:2.0
PRODID:-//Davis Cemetery District &amp; Arboretum - ECPv4.6.21//NONSGML v1.0//EN
CALSCALE:GREGORIAN
METHOD:PUBLISH
X-WR-CALNAME:Davis Cemetery District &amp; Arboretum
X-ORIGINAL-URL:https://daviscemetery.org
X-WR-CALDESC:Events for Davis Cemetery District &amp; Arboretum
BEGIN:VEVENT
DTSTART;TZID=America/Los_Angeles:20230616T123000
DTEND;TZID=America/Los_Angeles:20230616T143000
DTSTAMP:20260419T142717
CREATED:20230614T151229Z
LAST-MODIFIED:20230614T151229Z
UID:5085-1686918600-1686925800@daviscemetery.org
SUMMARY:Ingrid Welch Burial
DESCRIPTION:
URL:https://daviscemetery.org/event/ingrid-welch-burial/
CATEGORIES:Davis Cemetery District
END:VEVENT
END:VCALENDAR