BEGIN:VCALENDAR
VERSION:2.0
PRODID:-//Davis Cemetery District &amp; Arboretum - ECPv4.6.21//NONSGML v1.0//EN
CALSCALE:GREGORIAN
METHOD:PUBLISH
X-WR-CALNAME:Davis Cemetery District &amp; Arboretum
X-ORIGINAL-URL:https://daviscemetery.org
X-WR-CALDESC:Events for Davis Cemetery District &amp; Arboretum
BEGIN:VEVENT
DTSTART;TZID=America/Los_Angeles:20250712T100000
DTEND;TZID=America/Los_Angeles:20250712T130000
DTSTAMP:20260421T082923
CREATED:20250625T220416Z
LAST-MODIFIED:20250707T150940Z
UID:6666-1752314400-1752325200@daviscemetery.org
SUMMARY:POSTPONED: Hot Rods & History
DESCRIPTION:After thoughtful consideration we have decided to postpone our inaugural Hot Rods & History event until Fall 2025.\n\n\nInterest has been lower than anticipated—only five people have committed car entries—and we’ve just received a cancellation from the food truck vendor. Our goal is to ensure a fun and well-supported event\, so rather than rush forward\, we want to regroup and build momentum first. \n\n\n
URL:https://daviscemetery.org/event/hot-rods-history/
CATEGORIES:Davis Cemetery District
END:VEVENT
END:VCALENDAR