BEGIN:VCALENDAR
VERSION:2.0
PRODID:-//Davis Cemetery District &amp; Arboretum - ECPv4.6.21//NONSGML v1.0//EN
CALSCALE:GREGORIAN
METHOD:PUBLISH
X-WR-CALNAME:Davis Cemetery District &amp; Arboretum
X-ORIGINAL-URL:https://daviscemetery.org
X-WR-CALDESC:Events for Davis Cemetery District &amp; Arboretum
BEGIN:VEVENT
DTSTART;TZID=America/Los_Angeles:20210719T093000
DTEND;TZID=America/Los_Angeles:20210719T113000
DTSTAMP:20260421T133758
CREATED:20210716T172645Z
LAST-MODIFIED:20210716T172645Z
UID:3833-1626687000-1626694200@daviscemetery.org
SUMMARY:Hana Wishnatzky Burial
DESCRIPTION:
URL:https://daviscemetery.org/event/hana-wishnatzky-burial/
CATEGORIES:Davis Cemetery District
END:VEVENT
END:VCALENDAR