BEGIN:VCALENDAR
VERSION:2.0
PRODID:-//Davis Cemetery District &amp; Arboretum - ECPv4.6.21//NONSGML v1.0//EN
CALSCALE:GREGORIAN
METHOD:PUBLISH
X-WR-CALNAME:Davis Cemetery District &amp; Arboretum
X-ORIGINAL-URL:https://daviscemetery.org
X-WR-CALDESC:Events for Davis Cemetery District &amp; Arboretum
BEGIN:VEVENT
DTSTART;TZID=America/Los_Angeles:20230519T120000
DTEND;TZID=America/Los_Angeles:20230519T140000
DTSTAMP:20260422T141059
CREATED:20230515T171449Z
LAST-MODIFIED:20230515T171449Z
UID:5032-1684497600-1684504800@daviscemetery.org
SUMMARY:Eliki Seruvatu Burial
DESCRIPTION:
URL:https://daviscemetery.org/event/eliki-seruvatu-burial/
CATEGORIES:Davis Cemetery District
END:VEVENT
END:VCALENDAR