BEGIN:VCALENDAR
VERSION:2.0
PRODID:-//Davis Cemetery District &amp; Arboretum - ECPv4.6.21//NONSGML v1.0//EN
CALSCALE:GREGORIAN
METHOD:PUBLISH
X-WR-CALNAME:Davis Cemetery District &amp; Arboretum
X-ORIGINAL-URL:https://daviscemetery.org
X-WR-CALDESC:Events for Davis Cemetery District &amp; Arboretum
BEGIN:VEVENT
DTSTART;TZID=America/Los_Angeles:20171013T120000
DTEND;TZID=America/Los_Angeles:20171013T130000
DTSTAMP:20260424T061802
CREATED:20171012T161545Z
LAST-MODIFIED:20171012T161614Z
UID:1200-1507896000-1507899600@daviscemetery.org
SUMMARY:Edward Brashear Service
DESCRIPTION:Edward Brashear Service Friday\, 10/13/2017 at 12:00 pm \n
URL:https://daviscemetery.org/event/edward-brashear-service/
CATEGORIES:Davis Cemetery District
END:VEVENT
END:VCALENDAR