BEGIN:VCALENDAR
VERSION:2.0
PRODID:-//Davis Cemetery District &amp; Arboretum - ECPv4.6.21//NONSGML v1.0//EN
CALSCALE:GREGORIAN
METHOD:PUBLISH
X-WR-CALNAME:Davis Cemetery District &amp; Arboretum
X-ORIGINAL-URL:https://daviscemetery.org
X-WR-CALDESC:Events for Davis Cemetery District &amp; Arboretum
BEGIN:VEVENT
DTSTART;VALUE=DATE:20220201
DTEND;VALUE=DATE:20220301
DTSTAMP:20260423T063143
CREATED:20220114T191634Z
LAST-MODIFIED:20220201T170846Z
UID:4074-1643673600-1646092799@daviscemetery.org
SUMMARY:Different Strokes Painting Group Exhibition
DESCRIPTION:  \nDIFFERENT STROKES PAINTING GROUP \nThe Different Strokes painting group began roughly 11 years ago as artists in the excellent critique sessions at the Davis Art Center. Over the years we have lost and gained a few members and now number 8 artists: Ann Teal\, Anne Lincoln\, Dick Stern\, Gai Perry\, Irene Osuga\, Janice Long\, Larry Mitchell and Linda Ayre. Though we paint in different media and styles\, we share a common interest in improving our own and other’s paintings through frank\, supportive critique\, dispensed at our meetings held every few weeks. Over the years we have had several well-received group exhibitions in the Davis area. \nGai Perry  \nI paint for the sheer joy of it. I’m not interested in making political statements or shocking the viewer with the outrageous subject matter. When someone looks at one of my paintings I want them to experience the joy of color…the rhythm and graceful movement from one area to another. I love to manipulate light and shadow to create drama and perhaps an impression of space and loneliness.  \n  \n  \n  \nAnn Teal \nSince childhood\, I have enjoyed drawing and using colors\, a way to express strong feelings of beauty in both nature and common objects.  My paintings also serve as a personal diary\, often documenting an especially interesting object\, arrangement\, or place that I wish to remember.   \nMy main formal training has been thru classes at Davis Art Center and workshops.  For the last 20 years\, I have been a part of the Different Strokes Critique Group as well as painting one afternoon a week with a friend\, both of which have helped my style to develop. \n  \n  \nAnne Lincoln \nTaking numerous photographs for inspiration\, I enjoy exploring the beautiful vista of Northern California and beyond.  Although I am primarily a studio landscape painter (with brief forays into plein air work)\, I combine my photos and sketches and on-site notes to express my own vision. \nLarry Mitchell \nI now pursue my design and artistic interests primarily by painting with watercolors.  Subject matter varies\, including landscapes with architectural features such as the Davis Varsity Theater\, San Francisco cable cars and scenes of nature including the pacific coast\, Yosemite Valley and Putah Creek. \nPainting with watercolors allows me to explore a variety of techniques and painting styles that I find exciting and enjoyable. \n
URL:https://daviscemetery.org/event/different-strokes-painting-group-exhibition-2/
CATEGORIES:Gallery 1855
END:VEVENT
END:VCALENDAR