BEGIN:VCALENDAR
VERSION:2.0
PRODID:-//Davis Cemetery District &amp; Arboretum - ECPv4.6.21//NONSGML v1.0//EN
CALSCALE:GREGORIAN
METHOD:PUBLISH
X-WR-CALNAME:Davis Cemetery District &amp; Arboretum
X-ORIGINAL-URL:https://daviscemetery.org
X-WR-CALDESC:Events for Davis Cemetery District &amp; Arboretum
BEGIN:VEVENT
DTSTART;TZID=America/Los_Angeles:20220507T113000
DTEND;TZID=America/Los_Angeles:20220507T133000
DTSTAMP:20260426T015049
CREATED:20220427T204353Z
LAST-MODIFIED:20220427T204353Z
UID:4229-1651923000-1651930200@daviscemetery.org
SUMMARY:Diane Hill Burial
DESCRIPTION:
URL:https://daviscemetery.org/event/diane-hill-burial/
CATEGORIES:Davis Cemetery District
END:VEVENT
END:VCALENDAR