BEGIN:VCALENDAR
VERSION:2.0
PRODID:-//Davis Cemetery District &amp; Arboretum - ECPv4.6.21//NONSGML v1.0//EN
CALSCALE:GREGORIAN
METHOD:PUBLISH
X-WR-CALNAME:Davis Cemetery District &amp; Arboretum
X-ORIGINAL-URL:https://daviscemetery.org
X-WR-CALDESC:Events for Davis Cemetery District &amp; Arboretum
BEGIN:VEVENT
DTSTART;TZID=America/Los_Angeles:20220906T090000
DTEND;TZID=America/Los_Angeles:20220906T110000
DTSTAMP:20260425T183911
CREATED:20220829T155744Z
LAST-MODIFIED:20220829T155744Z
UID:4387-1662454800-1662462000@daviscemetery.org
SUMMARY:Defeng Luo Burial
DESCRIPTION:
URL:https://daviscemetery.org/event/defeng-luo-burial/
CATEGORIES:Davis Cemetery District
END:VEVENT
END:VCALENDAR