BEGIN:VCALENDAR
VERSION:2.0
PRODID:-//Davis Cemetery District &amp; Arboretum - ECPv4.6.21//NONSGML v1.0//EN
CALSCALE:GREGORIAN
METHOD:PUBLISH
X-WR-CALNAME:Davis Cemetery District &amp; Arboretum
X-ORIGINAL-URL:https://daviscemetery.org
X-WR-CALDESC:Events for Davis Cemetery District &amp; Arboretum
BEGIN:VEVENT
DTSTART;TZID=America/Los_Angeles:20170627T130000
DTEND;TZID=America/Los_Angeles:20170627T160000
DTSTAMP:20260424T190949
CREATED:20170626T174120Z
LAST-MODIFIED:20170626T185841Z
UID:979-1498568400-1498579200@daviscemetery.org
SUMMARY:Davis Cemetery District Special Board Meeting
DESCRIPTION:Davis Cemetery District Special Board Meeting Agenda \n  \nDate:               06/27/2017                                 \nTime:              4:00 PM            \nLocation:         820 Pole Line Rd.\, Davis\, CA \n  \nCall to order/introductions: Chairperson Stephen Souza\, Vice Chairperson Bill Marshall\, Board members: Dennis Dingemans\, Marilyn Mansfield\, Larry Dean. \n  \nApproval of agenda \n  \nPublic comment: \nOpportunity for members of the public to address the Davis Cemetery District Board on issues related to Davis Cemetery District business but which do not appear on the agenda. The Davis Cemetery District Board reserves the right to impose a reasonable time limit afforded to any one topic or to any individual speaker. \n  \n  \nAnnouncements:  \n  \nApproval of minutes:  None \n  \nConsent calendar: None \n  \nCorrespondence:  None \n  \nSuperintendent’s Report : None \n  \nCommunity Outreach Report :  None \n  \nFinancial Report:  None \n  \n  \n  \nOld Business:     1. Build -Out Policy considerations \n  \n\nRequest for Equipment Purchase\, $11\,419.67\n\n  \n  \nNew Business:     None \n  \n  \nAdjournment and scheduling of next meeting: Chairperson \n  \nI declare under penalty of perjury that the foregoing agenda was posted on Monday\, June 26\, 2017 by 4pm at the Davis Cemetery\, 820 Pole Line Rd.\, Davis\, CA 95618 by Joe Cattarin\, Superintendent. \n  \nDraft Cemetery Build-Out Policy  \nJune 26\, 2017 \nPurpose: \nTo provide direction to the Cemetery Superintendent on phasing of cemetery build-out\, including reservation of some areas for interim or future uses\, as the Superintendent and/or the Board of Trustees deem appropriate. \nBackground: \nThe Cemetery District is surrounded by single family residences and two public streets\, all of which are within the City of Davis\, as is the Cemetery itself.  The City of Davis zoning requirements regarding ‘set-backs’ are not applicable to the Cemetery property\, except by operation of applicable law. \nThe Cemetery has the absolute right to sell burial rights and perform interments anywhere on its property\, including\, but not necessarily limited to\, in close proximity to the property lines of the cemetery\, subject to the then current provisions of applicable State Law. \nConcerns regarding the timing of the cemetery utilizing cemetery lands located near the property lines have been raised by adjacent owner(s)/resident(s) and they have requested “buffer zones” between burial sites and the various property lines of the Cemetery District. \nThere is no requirement\, legal or otherwise\, for the Cemetery District to create such “buffer zones”. \nThe Cemetery District Board wishes to provide direction to the Cemetery Superintendent as to sales\, and subsequent use\, of plots in accordance with approved plot maps\, proposed by the Superintendent or authorized Cemetery staff\, and reviewed and/or approved by the Cemetery Board of Trustees. \nCurrently\, there is a maintenance and access roadway along a major portion of the northerly boundary of the Cemetery.  It is possible\, based on the Superintendent’s discretion and/or recommendation\, that additional roadways may be created to fulfill the purposes of the Cemetery’s operations.  These may include routes adjacent to abutting properties\, and may be interim or long term in nature. \nPolicy: \n\nThe Cemetery District Board hereby authorizes the Superintendent to reserve sales of plots\, for any plots\, where such sales may impede\, in the Superintendent’s judgement\, maintenance\, operational\, and/or access purposes. The Superintendent\, from time to time\, as appropriate\, shall inform the Board of Trustees of such reservations.\nThe Cemetery Superintendent and Cemetery staff retain full discretion in how and when to sell cemetery plots\, consistent with adopted policies and plans. They shall inform the Board of any proposed changes to such plans and/or policies.\nNo encumbrance\, implied or otherwise\, prescriptive easement\, or other restriction is created nor implied by this policy. The Cemetery Board retains the right to modify or repeal this policy within its sole discretion at any time\, upon recommendation(s) by the Superintendent\, and as may be governed by applicable State and local codes applicable to public cemeteries.  As burial space is utilized\, over time\, it is to be expected that eventually all space may be utilized\, within the Cemetery property lines\, and the Cemetery Board of Trustees asserts and maintains all rights to do so.\n\n
URL:https://daviscemetery.org/event/davis-cemetery-district-special-board-meeting/
CATEGORIES:Davis Cemetery District
END:VEVENT
END:VCALENDAR