BEGIN:VCALENDAR
VERSION:2.0
PRODID:-//Davis Cemetery District &amp; Arboretum - ECPv4.6.21//NONSGML v1.0//EN
CALSCALE:GREGORIAN
METHOD:PUBLISH
X-WR-CALNAME:Davis Cemetery District &amp; Arboretum
X-ORIGINAL-URL:https://daviscemetery.org
X-WR-CALDESC:Events for Davis Cemetery District &amp; Arboretum
BEGIN:VEVENT
DTSTART;TZID=UTC+0:20160217T160000
DTEND;TZID=UTC+0:20160217T180000
DTSTAMP:20260423T070608
CREATED:20160213T073843Z
LAST-MODIFIED:20160213T073843Z
UID:330-1455724800-1455732000@daviscemetery.org
SUMMARY:Davis Cemetery District February Board Meeting
DESCRIPTION:Davis Cemetery District Board Meeting \nAgenda \n  \nDate:               02-17-2016                               \nTime:              4:00 PM           \nLocation:  820 Pole Line Rd.\, Davis\, CA \n  \nCall to order/introductions: Chairperson Stephen Souza\, Vice Chairperson Larry Dean\, Board members: Dennis Dingemans\, Marilyn Mansfield\, Bill Marshall \n  \nApproval of agenda \n  \nPublic comment: \nOpportunity for members of the public to address the Davis Cemetery District Board on issues related to Davis Cemetery District business but which do not appear on the agenda. The Davis Cemetery District Board reserves the right to impose a reasonable time limit afforded to any one topic or to any individual speaker. \n  \nAnnouncements:  \n  \nApproval of minutes: December 23\, 2015 and January 20\, 2016 \n  \nConsent calendar: None \n  \nCorrespondence:  None \n  \nSuperintendent’s Report \n  \nCommunity Outreach Update  \n  \nFinancial Statements: October & November 2015 \n  \nOld Business: \n  \n\nOffice Manager Staffing Plan\nBike Path\n\n  \nNew Business: \n  \n\nSwinehart-Marker Height Fee Waiver Request\n\n  \nAdjournment and scheduling of next meeting: Chairperson \n  \nI declare under penalty of perjury that the foregoing agenda was posted on Friday\, February 12\, 2016 at the Davis Cemetery\, 820 Pole Line Rd.\, Davis\, CA 95618 by Ann McKay\, Offi \n
URL:https://daviscemetery.org/event/davis-cemetery-district-february-board-meeting/
CATEGORIES:Davis Cemetery District
END:VEVENT
END:VCALENDAR