BEGIN:VCALENDAR
VERSION:2.0
PRODID:-//Davis Cemetery District &amp; Arboretum - ECPv4.6.21//NONSGML v1.0//EN
CALSCALE:GREGORIAN
METHOD:PUBLISH
X-WR-CALNAME:Davis Cemetery District &amp; Arboretum
X-ORIGINAL-URL:https://daviscemetery.org
X-WR-CALDESC:Events for Davis Cemetery District &amp; Arboretum
BEGIN:VEVENT
DTSTART;TZID=America/Los_Angeles:20240202T110000
DTEND;TZID=America/Los_Angeles:20240202T130000
DTSTAMP:20260421T150039
CREATED:20240124T174924Z
LAST-MODIFIED:20240124T174924Z
UID:5510-1706871600-1706878800@daviscemetery.org
SUMMARY:David Bayer Burial
DESCRIPTION:
URL:https://daviscemetery.org/event/david-bayer-burial/
CATEGORIES:Davis Cemetery District
END:VEVENT
END:VCALENDAR