BEGIN:VCALENDAR
VERSION:2.0
PRODID:-//Davis Cemetery District &amp; Arboretum - ECPv4.6.21//NONSGML v1.0//EN
CALSCALE:GREGORIAN
METHOD:PUBLISH
X-WR-CALNAME:Davis Cemetery District &amp; Arboretum
X-ORIGINAL-URL:https://daviscemetery.org
X-WR-CALDESC:Events for Davis Cemetery District &amp; Arboretum
BEGIN:VEVENT
DTSTART;TZID=America/Los_Angeles:20230622T120000
DTEND;TZID=America/Los_Angeles:20230622T140000
DTSTAMP:20260419T140706
CREATED:20230619T165042Z
LAST-MODIFIED:20230619T165042Z
UID:5089-1687435200-1687442400@daviscemetery.org
SUMMARY:Chang Hoon Choe Burial
DESCRIPTION:
URL:https://daviscemetery.org/event/chang-hoon-choe-burial/
END:VEVENT
END:VCALENDAR